BEGIN:VCALENDAR
VERSION:2.0
PRODID:-//pretix//pretix.eu//
BEGIN:VTIMEZONE
TZID:Europe/Berlin
BEGIN:STANDARD
DTSTART:20001029T040000
RRULE:FREQ=YEARLY;BYDAY=-1SU;BYMONTH=10
TZNAME:CET
TZOFFSETFROM:+0200
TZOFFSETTO:+0100
END:STANDARD
BEGIN:DAYLIGHT
DTSTART:20000326T030000
RRULE:FREQ=YEARLY;BYDAY=-1SU;BYMONTH=3
TZNAME:CEST
TZOFFSETFROM:+0100
TZOFFSETTO:+0200
END:DAYLIGHT
END:VTIMEZONE
BEGIN:VEVENT
UID:pretix-mzt-di-0@tickets.op-online.de
DTSTART;TZID=Europe/Berlin:20260505T160000
DTEND;TZID=Europe/Berlin:20260505T190000
DESCRIPTION:Tickets: https://tickets.op-online.de/di/\nEinlass: 05.05.2026 
 15:30\nVeranstalter: MeineZeitung - Ticketshop
DTSTAMP:20260421T173427Z
LOCATION:Offenbach-Post\, Waldstraße 226\, 63071 Offenbach
SUMMARY:Digital Mini Camp
END:VEVENT
END:VCALENDAR
